BEGIN:VCALENDAR
VERSION:2.0
PRODID:-//Athlos Academy of Jefferson Parish - ECPv6.15.20//NONSGML v1.0//EN
CALSCALE:GREGORIAN
METHOD:PUBLISH
X-WR-CALNAME:Athlos Academy of Jefferson Parish
X-ORIGINAL-URL:https://www.athlosjp.org
X-WR-CALDESC:Events for Athlos Academy of Jefferson Parish
REFRESH-INTERVAL;VALUE=DURATION:PT1H
X-Robots-Tag:noindex
X-PUBLISHED-TTL:PT1H
BEGIN:VTIMEZONE
TZID:America/Chicago
BEGIN:DAYLIGHT
TZOFFSETFROM:-0600
TZOFFSETTO:-0500
TZNAME:CDT
DTSTART:20230312T080000
END:DAYLIGHT
BEGIN:STANDARD
TZOFFSETFROM:-0500
TZOFFSETTO:-0600
TZNAME:CST
DTSTART:20231105T070000
END:STANDARD
BEGIN:DAYLIGHT
TZOFFSETFROM:-0600
TZOFFSETTO:-0500
TZNAME:CDT
DTSTART:20240310T080000
END:DAYLIGHT
BEGIN:STANDARD
TZOFFSETFROM:-0500
TZOFFSETTO:-0600
TZNAME:CST
DTSTART:20241103T070000
END:STANDARD
BEGIN:DAYLIGHT
TZOFFSETFROM:-0600
TZOFFSETTO:-0500
TZNAME:CDT
DTSTART:20250309T080000
END:DAYLIGHT
BEGIN:STANDARD
TZOFFSETFROM:-0500
TZOFFSETTO:-0600
TZNAME:CST
DTSTART:20251102T070000
END:STANDARD
END:VTIMEZONE
BEGIN:VEVENT
DTSTART;VALUE=DATE:20241001
DTEND;VALUE=DATE:20241019
DTSTAMP:20260420T010639
CREATED:20240923T205024Z
LAST-MODIFIED:20241022T214134Z
UID:10004437-1727740800-1729295999@www.athlosjp.org
SUMMARY:Trick or Treat - Candy Collection
DESCRIPTION:We’re on the lookout for awesome parent volunteers to help make this year’s Trunk or Treat event a huge success! If you’re up for some spooky fun and  would like to donate candy\, we will be collecting them starting October 1st through October 18th. \nIf you’d like to find a more creative way to help\, we need volunteers to decorate their cars for candy distribution\, run the concession stand and haunted house\, and help collect tickets. If you’re up for our Trick or Treat fun and want to be part of the action\, please reach out to our PTO President\, Rika Garrison\, for more details\, you can contact her at 504-438-5966 or via email at athlosjppto@gmail.com. Let’s make this event unforgettable together!
URL:https://www.athlosjp.org/calendar/trick-or-treat-candy-collection/
LOCATION:Athlos Academy of Jefferson Parish\, 979 Behrman Hwy.\, Terrytown\, LA\, 70056\, United States
CATEGORIES:Community Events,School Events
ORGANIZER;CN="Athlos Academy of Jefferson Parish":MAILTO:info@athlosjp.org
END:VEVENT
BEGIN:VEVENT
DTSTART;TZID=America/Chicago:20241009T130000
DTEND;TZID=America/Chicago:20241009T150000
DTSTAMP:20260420T010639
CREATED:20240920T180256Z
LAST-MODIFIED:20240920T180256Z
UID:10004436-1728478800-1728486000@www.athlosjp.org
SUMMARY:2nd Annual High School & Career Fair!
DESCRIPTION:Join us for our 2nd Annual High School & Career Fair! \nOur High School & Career Fair day will be held on Wednesday\, October 9 at the Athlos Academy Gym from 1 – 3 p.m. \nThis event will expose our middle school students to various high schools in our area\, as well as a variety of career paths they may choose as they begin to consider college or career Pathways. \nIt will be a Job Fair setting allowing our 8th grade students and their parents to engage with schools before 2025-2026 open enrollment and explore career paths. While also providing our 6th and 7th grades an opportunity to explore high schools and career paths.
URL:https://www.athlosjp.org/calendar/2nd-annual-high-school-career-fair/
LOCATION:Athlos Academy of Jefferson Parish\, 979 Behrman Hwy.\, Terrytown\, LA\, 70056\, United States
CATEGORIES:School Events
ATTACH;FMTTYPE=image/jpeg:https://www.athlosjp.org/wp-content/uploads/2023/10/High-School-Career-Fair_FB.jpg
ORGANIZER;CN="Athlos Academy of Jefferson Parish":MAILTO:info@athlosjp.org
END:VEVENT
END:VCALENDAR