BEGIN:VCALENDAR
VERSION:2.0
PRODID:-//Athlos Academy of Jefferson Parish - ECPv6.15.20//NONSGML v1.0//EN
CALSCALE:GREGORIAN
METHOD:PUBLISH
X-ORIGINAL-URL:https://www.athlosjp.org
X-WR-CALDESC:Events for Athlos Academy of Jefferson Parish
REFRESH-INTERVAL;VALUE=DURATION:PT1H
X-Robots-Tag:noindex
X-PUBLISHED-TTL:PT1H
BEGIN:VTIMEZONE
TZID:America/Chicago
BEGIN:DAYLIGHT
TZOFFSETFROM:-0600
TZOFFSETTO:-0500
TZNAME:CDT
DTSTART:20230312T080000
END:DAYLIGHT
BEGIN:STANDARD
TZOFFSETFROM:-0500
TZOFFSETTO:-0600
TZNAME:CST
DTSTART:20231105T070000
END:STANDARD
BEGIN:DAYLIGHT
TZOFFSETFROM:-0600
TZOFFSETTO:-0500
TZNAME:CDT
DTSTART:20240310T080000
END:DAYLIGHT
BEGIN:STANDARD
TZOFFSETFROM:-0500
TZOFFSETTO:-0600
TZNAME:CST
DTSTART:20241103T070000
END:STANDARD
BEGIN:DAYLIGHT
TZOFFSETFROM:-0600
TZOFFSETTO:-0500
TZNAME:CDT
DTSTART:20250309T080000
END:DAYLIGHT
BEGIN:STANDARD
TZOFFSETFROM:-0500
TZOFFSETTO:-0600
TZNAME:CST
DTSTART:20251102T070000
END:STANDARD
END:VTIMEZONE
BEGIN:VEVENT
DTSTART;TZID=America/Chicago:20240427T100000
DTEND;TZID=America/Chicago:20240427T120000
DTSTAMP:20260419T094112
CREATED:20240322T185754Z
LAST-MODIFIED:20240322T190010Z
UID:10004322-1714212000-1714219200@www.athlosjp.org
SUMMARY:Autism Awareness Festival and Walk
DESCRIPTION:Saturday\, April 27\nTime: 10 a.m. – noon\nWhere: Athlos Academy of Jefferson Parish \nThere will be:\nvarious resources provided by several community organizations\na parent open forum (Let’s Chat!)\nSensory Stations will also be available during the festival! Come play\, explore and create!\nAutism Awareness walk \n\nwalk begins at 11:30 a.m.\nthe quarter of mile route will circle the school building\nparticipants are welcome to circle the route any distance they choose.\n\nClick to view digital pdf of flyer
URL:https://www.athlosjp.org/calendar/autism-awareness-festival-and-walk/
LOCATION:Athlos Academy of Jefferson Parish\, 979 Behrman Hwy.\, Terrytown\, LA\, 70056\, United States
CATEGORIES:Community Events,School Events
ATTACH;FMTTYPE=image/jpeg:https://www.athlosjp.org/wp-content/uploads/2024/03/Autism-Awareness-Festival_2024_-Web-Announcement-copy.jpg
ORGANIZER;CN="Athlos Academy of Jefferson Parish":MAILTO:info@athlosjp.org
END:VEVENT
END:VCALENDAR