BEGIN:VCALENDAR
VERSION:2.0
PRODID:-//Athlos Academy of Jefferson Parish - ECPv6.15.20//NONSGML v1.0//EN
CALSCALE:GREGORIAN
METHOD:PUBLISH
X-ORIGINAL-URL:https://www.athlosjp.org
X-WR-CALDESC:Events for Athlos Academy of Jefferson Parish
REFRESH-INTERVAL;VALUE=DURATION:PT1H
X-Robots-Tag:noindex
X-PUBLISHED-TTL:PT1H
BEGIN:VTIMEZONE
TZID:America/Chicago
BEGIN:DAYLIGHT
TZOFFSETFROM:-0600
TZOFFSETTO:-0500
TZNAME:CDT
DTSTART:20240310T080000
END:DAYLIGHT
BEGIN:STANDARD
TZOFFSETFROM:-0500
TZOFFSETTO:-0600
TZNAME:CST
DTSTART:20241103T070000
END:STANDARD
BEGIN:DAYLIGHT
TZOFFSETFROM:-0600
TZOFFSETTO:-0500
TZNAME:CDT
DTSTART:20250309T080000
END:DAYLIGHT
BEGIN:STANDARD
TZOFFSETFROM:-0500
TZOFFSETTO:-0600
TZNAME:CST
DTSTART:20251102T070000
END:STANDARD
BEGIN:DAYLIGHT
TZOFFSETFROM:-0600
TZOFFSETTO:-0500
TZNAME:CDT
DTSTART:20260308T080000
END:DAYLIGHT
BEGIN:STANDARD
TZOFFSETFROM:-0500
TZOFFSETTO:-0600
TZNAME:CST
DTSTART:20261101T070000
END:STANDARD
END:VTIMEZONE
BEGIN:VEVENT
DTSTART;VALUE=DATE:20250728
DTEND;VALUE=DATE:20250802
DTSTAMP:20260421T102301
CREATED:20250721T181705Z
LAST-MODIFIED:20250721T181705Z
UID:10004860-1753660800-1754092799@www.athlosjp.org
SUMMARY:No School - Teacher P.D.
DESCRIPTION:No School from Monday\, July 28 through Friday\, August 1 for Teacher Professional Development.
URL:https://www.athlosjp.org/calendar/no-school-teacher-p-d-11/
LOCATION:Athlos Academy of Jefferson Parish\, 979 Behrman Hwy.\, Terrytown\, LA\, 70056\, United States
CATEGORIES:Official School Calendar
ATTACH;FMTTYPE=image/jpeg:https://www.athlosjp.org/wp-content/uploads/2025/07/No-School-for-P.D.-FB-Web-Announcement-scaled.jpg
ORGANIZER;CN="Athlos Academy of Jefferson Parish":MAILTO:info@athlosjp.org
END:VEVENT
BEGIN:VEVENT
DTSTART;VALUE=DATE:20250804
DTEND;VALUE=DATE:20250805
DTSTAMP:20260421T102301
CREATED:20250721T185707Z
LAST-MODIFIED:20250721T185707Z
UID:10004861-1754265600-1754351999@www.athlosjp.org
SUMMARY:First Day of School For Grades 1-8
DESCRIPTION:Monday\, August 4 is the first day of school for students in Grades 1-8! We are so excited to see all of our Tritons – let the school year begin! \nAre you as excited for the new school year as we are? \nShare your student’s first day of school excitement! Just download and print a sign for the appropriate grade\, snap a photo of your student on the first day\, and share on your social media page and on our Facebook page. You can also share on Instagram! \nNew this year! If you attend Student Orientation\, there is no need to print your own sign at home\, you can pick one up at Student Orientation! \nDon’t forget to use the hashtag #AthlosFirstDay so we can see your excited student! Remember\, if you want the photo to be seen\, you must make it a public post (on Facebook) or have your Instagram profile set to public. \n\nKindergarten\n1st Grade\n2nd Grade\n3rd Grade\n4th Grade\n5th Grade\n6th Grade\n7th Grade\n8th Grade
URL:https://www.athlosjp.org/calendar/first-day-of-school-for-grades-1-8/
LOCATION:Athlos Academy of Jefferson Parish\, 979 Behrman Hwy.\, Terrytown\, LA\, 70056\, United States
CATEGORIES:Official School Calendar,School Events
ATTACH;FMTTYPE=image/png:https://www.athlosjp.org/wp-content/uploads/2019/08/Athlos-first-day-of-school-signs_AAJP.png
ORGANIZER;CN="Athlos Academy of Jefferson Parish":MAILTO:info@athlosjp.org
END:VEVENT
BEGIN:VEVENT
DTSTART;VALUE=DATE:20250804
DTEND;VALUE=DATE:20250805
DTSTAMP:20260421T102301
CREATED:20250721T195214Z
LAST-MODIFIED:20250721T195214Z
UID:10004869-1754265600-1754351999@www.athlosjp.org
SUMMARY:Start of Quarter 1
DESCRIPTION:Quarter 1 begins on 08/04/2025 (and ends on 10/09/2025).
URL:https://www.athlosjp.org/calendar/start-of-quarter-1-2/
LOCATION:Athlos Academy of Jefferson Parish\, 979 Behrman Hwy.\, Terrytown\, LA\, 70056\, United States
CATEGORIES:Official School Calendar
ATTACH;FMTTYPE=image/jpeg:https://www.athlosjp.org/wp-content/uploads/2023/02/Start-Q1_FB.jpg
ORGANIZER;CN="Athlos Academy of Jefferson Parish":MAILTO:info@athlosjp.org
END:VEVENT
BEGIN:VEVENT
DTSTART;VALUE=DATE:20250807
DTEND;VALUE=DATE:20250808
DTSTAMP:20260421T102301
CREATED:20250721T185752Z
LAST-MODIFIED:20250721T185752Z
UID:10004862-1754524800-1754611199@www.athlosjp.org
SUMMARY:First Day of School For Kindergarten!
DESCRIPTION:Thursday\, August 7 is the first day of school for our Kindergarteners! We are so excited to see all of our young Tritons – let the school year begin! \nAre you as excited for the new school year as we are? \nShare your student’s first day of school excitement! Just download and print a sign for the appropriate grade\, snap a photo of your student on the first day\, and share on your social media page and on our Facebook page. You can also share on Instagram! \nNew this year! If you attend Student Orientation\, there is no need to print your own sign at home\, you can pick one up at Student Orientation! \nDon’t forget to use the hashtag #AthlosFirstDay so we can see your excited student! Remember\, if you want the photo to be seen\, you must make it a public post (on Facebook) or have your Instagram profile set to public. \n\nKindergarten\n1st Grade\n2nd Grade\n3rd Grade\n4th Grade\n5th Grade\n6th Grade\n7th Grade\n8th Grade
URL:https://www.athlosjp.org/calendar/first-day-of-school-for-kindergarten-3/
LOCATION:Athlos Academy of Jefferson Parish\, 979 Behrman Hwy.\, Terrytown\, LA\, 70056\, United States
CATEGORIES:Official School Calendar,School Events
ATTACH;FMTTYPE=image/png:https://www.athlosjp.org/wp-content/uploads/2019/08/Athlos-first-day-of-school-signs_AAJP.png
ORGANIZER;CN="Athlos Academy of Jefferson Parish":MAILTO:info@athlosjp.org
END:VEVENT
BEGIN:VEVENT
DTSTART;TZID=America/Chicago:20250822T080000
DTEND;TZID=America/Chicago:20250822T133000
DTSTAMP:20260421T102301
CREATED:20250721T190658Z
LAST-MODIFIED:20250721T190658Z
UID:10004863-1755849600-1755869400@www.athlosjp.org
SUMMARY:Early Release
DESCRIPTION:Early Release on Friday\, August 22 \nDismissal is  at 1:30 p.m.
URL:https://www.athlosjp.org/calendar/early-release-15/
LOCATION:Athlos Academy of Jefferson Parish\, 979 Behrman Hwy.\, Terrytown\, LA\, 70056\, United States
CATEGORIES:Official School Calendar
ATTACH;FMTTYPE=image/png:https://www.athlosjp.org/wp-content/uploads/2019/01/early-dismissal-release-alert-attention-announcement.png
ORGANIZER;CN="Athlos Academy of Jefferson Parish":MAILTO:info@athlosjp.org
END:VEVENT
END:VCALENDAR