BEGIN:VCALENDAR
VERSION:2.0
PRODID:-//Athlos Academy of Jefferson Parish - ECPv6.15.20//NONSGML v1.0//EN
CALSCALE:GREGORIAN
METHOD:PUBLISH
X-WR-CALNAME:Athlos Academy of Jefferson Parish
X-ORIGINAL-URL:https://www.athlosjp.org
X-WR-CALDESC:Events for Athlos Academy of Jefferson Parish
REFRESH-INTERVAL;VALUE=DURATION:PT1H
X-Robots-Tag:noindex
X-PUBLISHED-TTL:PT1H
BEGIN:VTIMEZONE
TZID:America/Chicago
BEGIN:DAYLIGHT
TZOFFSETFROM:-0600
TZOFFSETTO:-0500
TZNAME:CDT
DTSTART:20240310T080000
END:DAYLIGHT
BEGIN:STANDARD
TZOFFSETFROM:-0500
TZOFFSETTO:-0600
TZNAME:CST
DTSTART:20241103T070000
END:STANDARD
BEGIN:DAYLIGHT
TZOFFSETFROM:-0600
TZOFFSETTO:-0500
TZNAME:CDT
DTSTART:20250309T080000
END:DAYLIGHT
BEGIN:STANDARD
TZOFFSETFROM:-0500
TZOFFSETTO:-0600
TZNAME:CST
DTSTART:20251102T070000
END:STANDARD
BEGIN:DAYLIGHT
TZOFFSETFROM:-0600
TZOFFSETTO:-0500
TZNAME:CDT
DTSTART:20260308T080000
END:DAYLIGHT
BEGIN:STANDARD
TZOFFSETFROM:-0500
TZOFFSETTO:-0600
TZNAME:CST
DTSTART:20261101T070000
END:STANDARD
END:VTIMEZONE
BEGIN:VEVENT
DTSTART;VALUE=DATE:20250901
DTEND;VALUE=DATE:20250902
DTSTAMP:20260419T085932
CREATED:20250721T191447Z
LAST-MODIFIED:20250721T191447Z
UID:10004864-1756684800-1756771199@www.athlosjp.org
SUMMARY:No School - Labor Day
DESCRIPTION:No school on Monday\, September 1 for Labor Day. (Office is closed)
URL:https://www.athlosjp.org/calendar/no-school-labor-day/
LOCATION:Athlos Academy of Jefferson Parish\, 979 Behrman Hwy.\, Terrytown\, LA\, 70056\, United States
CATEGORIES:Official School Calendar
ATTACH;FMTTYPE=image/jpeg:https://www.athlosjp.org/wp-content/uploads/2025/07/Labor-Day-FB-Web-Announcement.jpg
ORGANIZER;CN="Athlos Academy of Jefferson Parish":MAILTO:info@athlosjp.org
END:VEVENT
BEGIN:VEVENT
DTSTART;TZID=America/Chicago:20250905T080000
DTEND;TZID=America/Chicago:20250905T133000
DTSTAMP:20260419T085932
CREATED:20250721T191823Z
LAST-MODIFIED:20250721T191823Z
UID:10004865-1757059200-1757079000@www.athlosjp.org
SUMMARY:Early Release
DESCRIPTION:Early Release on Friday\, September 5. \nDismissal is  at 1:30 p.m.
URL:https://www.athlosjp.org/calendar/early-release-16/
LOCATION:Athlos Academy of Jefferson Parish\, 979 Behrman Hwy.\, Terrytown\, LA\, 70056\, United States
CATEGORIES:Official School Calendar
ATTACH;FMTTYPE=image/png:https://www.athlosjp.org/wp-content/uploads/2019/01/early-dismissal-release-alert-attention-announcement.png
ORGANIZER;CN="Athlos Academy of Jefferson Parish":MAILTO:info@athlosjp.org
END:VEVENT
BEGIN:VEVENT
DTSTART;VALUE=DATE:20250915
DTEND;VALUE=DATE:20250916
DTSTAMP:20260419T085932
CREATED:20250721T191955Z
LAST-MODIFIED:20250721T191955Z
UID:10004866-1757894400-1757980799@www.athlosjp.org
SUMMARY:No School - Teacher P.D.
DESCRIPTION:No School on Monday\, September 15\, for Teacher Professional Development.
URL:https://www.athlosjp.org/calendar/no-school-teacher-p-d-12/
LOCATION:Athlos Academy of Jefferson Parish\, 979 Behrman Hwy.\, Terrytown\, LA\, 70056\, United States
CATEGORIES:Official School Calendar
ATTACH;FMTTYPE=image/jpeg:https://www.athlosjp.org/wp-content/uploads/2025/07/No-School-for-P.D.-FB-Web-Announcement-scaled.jpg
ORGANIZER;CN="Athlos Academy of Jefferson Parish":MAILTO:info@athlosjp.org
END:VEVENT
BEGIN:VEVENT
DTSTART;TZID=America/Chicago:20250919T080000
DTEND;TZID=America/Chicago:20250919T133000
DTSTAMP:20260419T085932
CREATED:20250721T192053Z
LAST-MODIFIED:20250721T192053Z
UID:10004867-1758268800-1758288600@www.athlosjp.org
SUMMARY:Early Release
DESCRIPTION:Early Release on Friday\, September 19. \nDismissal is  at 1:30 p.m.
URL:https://www.athlosjp.org/calendar/early-release-17/
LOCATION:Athlos Academy of Jefferson Parish\, 979 Behrman Hwy.\, Terrytown\, LA\, 70056\, United States
CATEGORIES:Official School Calendar
ATTACH;FMTTYPE=image/png:https://www.athlosjp.org/wp-content/uploads/2019/01/early-dismissal-release-alert-attention-announcement.png
ORGANIZER;CN="Athlos Academy of Jefferson Parish":MAILTO:info@athlosjp.org
END:VEVENT
END:VCALENDAR