BEGIN:VCALENDAR
VERSION:2.0
PRODID:-//Athlos Academy of Jefferson Parish - ECPv6.15.20//NONSGML v1.0//EN
CALSCALE:GREGORIAN
METHOD:PUBLISH
X-ORIGINAL-URL:https://www.athlosjp.org
X-WR-CALDESC:Events for Athlos Academy of Jefferson Parish
REFRESH-INTERVAL;VALUE=DURATION:PT1H
X-Robots-Tag:noindex
X-PUBLISHED-TTL:PT1H
BEGIN:VTIMEZONE
TZID:America/Chicago
BEGIN:DAYLIGHT
TZOFFSETFROM:-0600
TZOFFSETTO:-0500
TZNAME:CDT
DTSTART:20230312T080000
END:DAYLIGHT
BEGIN:STANDARD
TZOFFSETFROM:-0500
TZOFFSETTO:-0600
TZNAME:CST
DTSTART:20231105T070000
END:STANDARD
BEGIN:DAYLIGHT
TZOFFSETFROM:-0600
TZOFFSETTO:-0500
TZNAME:CDT
DTSTART:20240310T080000
END:DAYLIGHT
BEGIN:STANDARD
TZOFFSETFROM:-0500
TZOFFSETTO:-0600
TZNAME:CST
DTSTART:20241103T070000
END:STANDARD
BEGIN:DAYLIGHT
TZOFFSETFROM:-0600
TZOFFSETTO:-0500
TZNAME:CDT
DTSTART:20250309T080000
END:DAYLIGHT
BEGIN:STANDARD
TZOFFSETFROM:-0500
TZOFFSETTO:-0600
TZNAME:CST
DTSTART:20251102T070000
END:STANDARD
END:VTIMEZONE
BEGIN:VEVENT
DTSTART;VALUE=DATE:20240722
DTEND;VALUE=DATE:20240803
DTSTAMP:20260423T051417
CREATED:20240329T193840Z
LAST-MODIFIED:20240329T193840Z
UID:10004323-1721606400-1722643199@www.athlosjp.org
SUMMARY:Teacher Professional Development
DESCRIPTION:July 22 through August 2 is Professional Development for our Teachers!
URL:https://www.athlosjp.org/calendar/teacher-professional-development/
LOCATION:Athlos Academy of Jefferson Parish\, 979 Behrman Hwy.\, Terrytown\, LA\, 70056\, United States
CATEGORIES:Official School Calendar,School Events
ATTACH;FMTTYPE=image/png:https://www.athlosjp.org/wp-content/uploads/2019/04/Staff_PD.png
ORGANIZER;CN="Athlos Academy of Jefferson Parish":MAILTO:info@athlosjp.org
END:VEVENT
BEGIN:VEVENT
DTSTART;VALUE=DATE:20240805
DTEND;VALUE=DATE:20240806
DTSTAMP:20260423T051417
CREATED:20240329T194228Z
LAST-MODIFIED:20240528T180342Z
UID:10004324-1722816000-1722902399@www.athlosjp.org
SUMMARY:First Day of School For Grades 1-8
DESCRIPTION:August 5 is the first day of school for students in Grades 1-9! We are so excited to see all of our Tritons – let the school year begin! \nAre you as excited for the new school year as we are? \nShare your student’s first day of school excitement! Just download and print a sign for the appropriate grade\, snap a photo of your student on the first day\, and share on your social media page and on our Facebook page. You can also share on Instagram! \nNew this year! If you attend Student Orientation\, there is no need to print your own sign at home\, you can pick one up at Student Orientation! \nDon’t forget to use the hashtag #AthlosFirstDay so we can see your excited student! Remember\, if you want the photo to be seen\, you must make it a public post (on Facebook) or have your Instagram profile set to public. \n\nKindergarten\n1st Grade\n2nd Grade\n3rd Grade\n4th Grade\n5th Grade\n6th Grade\n7th Grade\n8th Grade
URL:https://www.athlosjp.org/calendar/first-day-of-school-2/
LOCATION:Athlos Academy of Jefferson Parish\, 979 Behrman Hwy.\, Terrytown\, LA\, 70056\, United States
CATEGORIES:Official School Calendar,School Events
ATTACH;FMTTYPE=image/png:https://www.athlosjp.org/wp-content/uploads/2019/08/Athlos-first-day-of-school-signs_AAJP.png
ORGANIZER;CN="Athlos Academy of Jefferson Parish":MAILTO:info@athlosjp.org
END:VEVENT
BEGIN:VEVENT
DTSTART;VALUE=DATE:20240808
DTEND;VALUE=DATE:20240809
DTSTAMP:20260423T051417
CREATED:20240329T194430Z
LAST-MODIFIED:20240404T182232Z
UID:10004325-1723075200-1723161599@www.athlosjp.org
SUMMARY:First Day of School For Kindergarten!
DESCRIPTION:August 8 is the first day of school for our Kindergarteners! We are so excited to see all of our young Tritons – let the school year begin! \nAre you as excited for the new school year as we are? \nShare your student’s first day of school excitement! Just download and print a sign for the appropriate grade\, snap a photo of your student on the first day\, and share on your social media page and on our Facebook page. You can also share on Instagram! \nNew this year! If you attend Student Orientation\, there is no need to print your own sign at home\, you can pick one up at Student Orientation! \nDon’t forget to use the hashtag #AthlosFirstDay so we can see your excited student! Remember\, if you want the photo to be seen\, you must make it a public post (on Facebook) or have your Instagram profile set to public. \n\nKindergarten\n1st Grade\n2nd Grade\n3rd Grade\n4th Grade\n5th Grade\n6th Grade\n7th Grade\n8th Grade
URL:https://www.athlosjp.org/calendar/first-day-of-school-for-kindergarten/
LOCATION:Athlos Academy of Jefferson Parish\, 979 Behrman Hwy.\, Terrytown\, LA\, 70056\, United States
CATEGORIES:Official School Calendar,School Events
ATTACH;FMTTYPE=image/png:https://www.athlosjp.org/wp-content/uploads/2019/08/Athlos-first-day-of-school-signs_AAJP.png
ORGANIZER;CN="Athlos Academy of Jefferson Parish":MAILTO:info@athlosjp.org
END:VEVENT
BEGIN:VEVENT
DTSTART;TZID=America/Chicago:20240822T153000
DTEND;TZID=America/Chicago:20240822T163000
DTSTAMP:20260423T051417
CREATED:20240821T203506Z
LAST-MODIFIED:20250109T185208Z
UID:10004367-1724340600-1724344200@www.athlosjp.org
SUMMARY:Young Rembrandts: Grades 1-6
DESCRIPTION:Grades 1-6:\n08/22/2024 – 12/19/2024   TH\, 3:30 PM – 4:30 PM\n(16 Classes) \n\n\n\n\n\n\nIt’s time to take their artistic talent to the next level with Young Rembrandts! Marvel as your Young Artist’s pencils fly across the page\, bringing to life everything from delicious taffy apples to charming seasonal scarecrows\, and even sassy bunnies. We’re adding a sprinkle of Van Gogh’s magic too\, with vibrant sunflower sketches that burst off the page. Dive into an art-filled journey where colors pop and imaginations soar. Enroll your budding artist today and watch their creativity blossom into stunning works of art! \nClass will not meet on: 10/10 and Nov 28\n\n\n\n\n\n\n\nFor Questions Contact Robin Corradi at robin.corradi@youngrembrandts.com or 504-533-8485 \nClick here to learn more & Register now
URL:https://www.athlosjp.org/calendar/young-rembrandts-grades-1-6/2024-08-22/
LOCATION:LA
CATEGORIES:School Events
ATTACH;FMTTYPE=image/jpeg:https://www.athlosjp.org/wp-content/uploads/2024/08/5dde3f3e-f977-45a6-ab22-388739f4ffee.jpg
END:VEVENT
BEGIN:VEVENT
DTSTART;TZID=America/Chicago:20240829T153000
DTEND;TZID=America/Chicago:20240829T163000
DTSTAMP:20260423T051417
CREATED:20240821T203506Z
LAST-MODIFIED:20250109T185208Z
UID:10004368-1724945400-1724949000@www.athlosjp.org
SUMMARY:Young Rembrandts: Grades 1-6
DESCRIPTION:Grades 1-6:\n08/22/2024 – 12/19/2024   TH\, 3:30 PM – 4:30 PM\n(16 Classes) \n\n\n\n\n\n\nIt’s time to take their artistic talent to the next level with Young Rembrandts! Marvel as your Young Artist’s pencils fly across the page\, bringing to life everything from delicious taffy apples to charming seasonal scarecrows\, and even sassy bunnies. We’re adding a sprinkle of Van Gogh’s magic too\, with vibrant sunflower sketches that burst off the page. Dive into an art-filled journey where colors pop and imaginations soar. Enroll your budding artist today and watch their creativity blossom into stunning works of art! \nClass will not meet on: 10/10 and Nov 28\n\n\n\n\n\n\n\nFor Questions Contact Robin Corradi at robin.corradi@youngrembrandts.com or 504-533-8485 \nClick here to learn more & Register now
URL:https://www.athlosjp.org/calendar/young-rembrandts-grades-1-6/2024-08-29/
LOCATION:LA
CATEGORIES:School Events
ATTACH;FMTTYPE=image/jpeg:https://www.athlosjp.org/wp-content/uploads/2024/08/5dde3f3e-f977-45a6-ab22-388739f4ffee.jpg
END:VEVENT
END:VCALENDAR