BEGIN:VCALENDAR
VERSION:2.0
PRODID:-//Athlos Academy of Jefferson Parish - ECPv6.15.20//NONSGML v1.0//EN
CALSCALE:GREGORIAN
METHOD:PUBLISH
X-ORIGINAL-URL:https://www.athlosjp.org
X-WR-CALDESC:Events for Athlos Academy of Jefferson Parish
REFRESH-INTERVAL;VALUE=DURATION:PT1H
X-Robots-Tag:noindex
X-PUBLISHED-TTL:PT1H
BEGIN:VTIMEZONE
TZID:America/Chicago
BEGIN:DAYLIGHT
TZOFFSETFROM:-0600
TZOFFSETTO:-0500
TZNAME:CDT
DTSTART:20230312T080000
END:DAYLIGHT
BEGIN:STANDARD
TZOFFSETFROM:-0500
TZOFFSETTO:-0600
TZNAME:CST
DTSTART:20231105T070000
END:STANDARD
BEGIN:DAYLIGHT
TZOFFSETFROM:-0600
TZOFFSETTO:-0500
TZNAME:CDT
DTSTART:20240310T080000
END:DAYLIGHT
BEGIN:STANDARD
TZOFFSETFROM:-0500
TZOFFSETTO:-0600
TZNAME:CST
DTSTART:20241103T070000
END:STANDARD
BEGIN:DAYLIGHT
TZOFFSETFROM:-0600
TZOFFSETTO:-0500
TZNAME:CDT
DTSTART:20250309T080000
END:DAYLIGHT
BEGIN:STANDARD
TZOFFSETFROM:-0500
TZOFFSETTO:-0600
TZNAME:CST
DTSTART:20251102T070000
END:STANDARD
END:VTIMEZONE
BEGIN:VEVENT
DTSTART;TZID=America/Chicago:20241107T153000
DTEND;TZID=America/Chicago:20241107T163000
DTSTAMP:20260421T115936
CREATED:20240821T203506Z
LAST-MODIFIED:20250109T185208Z
UID:10004377-1730993400-1730997000@www.athlosjp.org
SUMMARY:Young Rembrandts: Grades 1-6
DESCRIPTION:Grades 1-6:\n08/22/2024 – 12/19/2024   TH\, 3:30 PM – 4:30 PM\n(16 Classes) \n\n\n\n\n\n\nIt’s time to take their artistic talent to the next level with Young Rembrandts! Marvel as your Young Artist’s pencils fly across the page\, bringing to life everything from delicious taffy apples to charming seasonal scarecrows\, and even sassy bunnies. We’re adding a sprinkle of Van Gogh’s magic too\, with vibrant sunflower sketches that burst off the page. Dive into an art-filled journey where colors pop and imaginations soar. Enroll your budding artist today and watch their creativity blossom into stunning works of art! \nClass will not meet on: 10/10 and Nov 28\n\n\n\n\n\n\n\nFor Questions Contact Robin Corradi at robin.corradi@youngrembrandts.com or 504-533-8485 \nClick here to learn more & Register now
URL:https://www.athlosjp.org/calendar/young-rembrandts-grades-1-6/2024-11-07/
LOCATION:LA
CATEGORIES:School Events
ATTACH;FMTTYPE=image/jpeg:https://www.athlosjp.org/wp-content/uploads/2024/08/5dde3f3e-f977-45a6-ab22-388739f4ffee.jpg
END:VEVENT
BEGIN:VEVENT
DTSTART;TZID=America/Chicago:20241113T160000
DTEND;TZID=America/Chicago:20241113T170000
DTSTAMP:20260421T115936
CREATED:20241010T172212Z
LAST-MODIFIED:20241010T172212Z
UID:10004438-1731513600-1731517200@www.athlosjp.org
SUMMARY:Open House for Prospective Parents! 🏫
DESCRIPTION:Get ready for an amazing opportunity! Join us for an exclusive Open House event at Athlos on Wednesday\, November 13 from 4:00 p.m. to 5:00 p.m. Whether you’re considering enrollment or just want to explore our incredible campus\, this is your chance to experience all that Athlos has to offer! \nAthlos Academy of Jefferson Parish is a tuition-free\, public charter school with award-winning and caring educators. Students in grades K-8 love learning in our safe\, spacious\, modern building. \nOur innovative education model balances academics\, athletics and performance character. We offer after school sports\, enrichment\, art\, music\, Gifted and Talented and Special Education programs.\nGive your child a competitive edge. \nENROLL TODAY FOR THE SCHOOL YEAR! 🎉 \nhttps://www.athlosjp.org/enroll/apply/
URL:https://www.athlosjp.org/calendar/open-house-for-prospective-parents-%f0%9f%8f%ab-2/
LOCATION:Athlos Academy of Jefferson Parish\, 979 Behrman Hwy.\, Terrytown\, LA\, 70056\, United States
CATEGORIES:Community Events,Enrollment Events,School Events
ATTACH;FMTTYPE=image/jpeg:https://www.athlosjp.org/wp-content/uploads/2024/10/Open-House_11.13.24_Web-Announcement.jpg
ORGANIZER;CN="Athlos Academy of Jefferson Parish":MAILTO:info@athlosjp.org
END:VEVENT
BEGIN:VEVENT
DTSTART;TZID=America/Chicago:20241114T153000
DTEND;TZID=America/Chicago:20241114T163000
DTSTAMP:20260421T115936
CREATED:20240821T203506Z
LAST-MODIFIED:20250109T185208Z
UID:10004378-1731598200-1731601800@www.athlosjp.org
SUMMARY:Young Rembrandts: Grades 1-6
DESCRIPTION:Grades 1-6:\n08/22/2024 – 12/19/2024   TH\, 3:30 PM – 4:30 PM\n(16 Classes) \n\n\n\n\n\n\nIt’s time to take their artistic talent to the next level with Young Rembrandts! Marvel as your Young Artist’s pencils fly across the page\, bringing to life everything from delicious taffy apples to charming seasonal scarecrows\, and even sassy bunnies. We’re adding a sprinkle of Van Gogh’s magic too\, with vibrant sunflower sketches that burst off the page. Dive into an art-filled journey where colors pop and imaginations soar. Enroll your budding artist today and watch their creativity blossom into stunning works of art! \nClass will not meet on: 10/10 and Nov 28\n\n\n\n\n\n\n\nFor Questions Contact Robin Corradi at robin.corradi@youngrembrandts.com or 504-533-8485 \nClick here to learn more & Register now
URL:https://www.athlosjp.org/calendar/young-rembrandts-grades-1-6/2024-11-14/
LOCATION:LA
CATEGORIES:School Events
ATTACH;FMTTYPE=image/jpeg:https://www.athlosjp.org/wp-content/uploads/2024/08/5dde3f3e-f977-45a6-ab22-388739f4ffee.jpg
END:VEVENT
BEGIN:VEVENT
DTSTART;TZID=America/Chicago:20241114T160000
DTEND;TZID=America/Chicago:20241114T190000
DTSTAMP:20260421T115936
CREATED:20241022T220538Z
LAST-MODIFIED:20241022T220538Z
UID:10004440-1731600000-1731610800@www.athlosjp.org
SUMMARY:Cane's Family Dinner Night!
DESCRIPTION:Cane’s Family Dinner Night will be held on  November 14\, 2024 4pm-7pm
URL:https://www.athlosjp.org/calendar/canes-family-dinner-night/
LOCATION:Athlos Academy of Jefferson Parish\, 979 Behrman Hwy.\, Terrytown\, LA\, 70056\, United States
CATEGORIES:Community Events,PTO Event,School Events
ATTACH;FMTTYPE=image/jpeg:https://www.athlosjp.org/wp-content/uploads/2024/10/Calendar-Graphics_PTO-FB-Web-Announcement.jpg
ORGANIZER;CN="Athlos Academy of Jefferson Parish":MAILTO:info@athlosjp.org
END:VEVENT
BEGIN:VEVENT
DTSTART;TZID=America/Chicago:20241121T153000
DTEND;TZID=America/Chicago:20241121T163000
DTSTAMP:20260421T115936
CREATED:20240821T203506Z
LAST-MODIFIED:20250109T185208Z
UID:10004379-1732203000-1732206600@www.athlosjp.org
SUMMARY:Young Rembrandts: Grades 1-6
DESCRIPTION:Grades 1-6:\n08/22/2024 – 12/19/2024   TH\, 3:30 PM – 4:30 PM\n(16 Classes) \n\n\n\n\n\n\nIt’s time to take their artistic talent to the next level with Young Rembrandts! Marvel as your Young Artist’s pencils fly across the page\, bringing to life everything from delicious taffy apples to charming seasonal scarecrows\, and even sassy bunnies. We’re adding a sprinkle of Van Gogh’s magic too\, with vibrant sunflower sketches that burst off the page. Dive into an art-filled journey where colors pop and imaginations soar. Enroll your budding artist today and watch their creativity blossom into stunning works of art! \nClass will not meet on: 10/10 and Nov 28\n\n\n\n\n\n\n\nFor Questions Contact Robin Corradi at robin.corradi@youngrembrandts.com or 504-533-8485 \nClick here to learn more & Register now
URL:https://www.athlosjp.org/calendar/young-rembrandts-grades-1-6/2024-11-21/
LOCATION:LA
CATEGORIES:School Events
ATTACH;FMTTYPE=image/jpeg:https://www.athlosjp.org/wp-content/uploads/2024/08/5dde3f3e-f977-45a6-ab22-388739f4ffee.jpg
END:VEVENT
BEGIN:VEVENT
DTSTART;TZID=America/Chicago:20241128T153000
DTEND;TZID=America/Chicago:20241128T163000
DTSTAMP:20260421T115936
CREATED:20240821T203506Z
LAST-MODIFIED:20250109T185208Z
UID:10004380-1732807800-1732811400@www.athlosjp.org
SUMMARY:Young Rembrandts: Grades 1-6
DESCRIPTION:Grades 1-6:\n08/22/2024 – 12/19/2024   TH\, 3:30 PM – 4:30 PM\n(16 Classes) \n\n\n\n\n\n\nIt’s time to take their artistic talent to the next level with Young Rembrandts! Marvel as your Young Artist’s pencils fly across the page\, bringing to life everything from delicious taffy apples to charming seasonal scarecrows\, and even sassy bunnies. We’re adding a sprinkle of Van Gogh’s magic too\, with vibrant sunflower sketches that burst off the page. Dive into an art-filled journey where colors pop and imaginations soar. Enroll your budding artist today and watch their creativity blossom into stunning works of art! \nClass will not meet on: 10/10 and Nov 28\n\n\n\n\n\n\n\nFor Questions Contact Robin Corradi at robin.corradi@youngrembrandts.com or 504-533-8485 \nClick here to learn more & Register now
URL:https://www.athlosjp.org/calendar/young-rembrandts-grades-1-6/2024-11-28/
LOCATION:LA
CATEGORIES:School Events
ATTACH;FMTTYPE=image/jpeg:https://www.athlosjp.org/wp-content/uploads/2024/08/5dde3f3e-f977-45a6-ab22-388739f4ffee.jpg
END:VEVENT
BEGIN:VEVENT
DTSTART;VALUE=DATE:20241129
DTEND;VALUE=DATE:20241202
DTSTAMP:20260421T115936
CREATED:20241101T173752Z
LAST-MODIFIED:20241101T173752Z
UID:10004446-1732838400-1733097599@www.athlosjp.org
SUMMARY:Black Friday Sale - 50% OFF Athlos Store
DESCRIPTION:Get ready for an epic Black Friday Sale! From November 29 to December 1 at 11:59 p.m.\, everything in the Athlos store is a whopping 50% off! That’s right—it’s a site-wide celebration! Don’t miss out on the chance to snag amazing deals on spirit wear\, cozy hoodies\, stylish jackets\, and more. Stock up while you can and elevate your Athlos game in style! \nClick the link to check out the Athlos store: https://store.athlosacademies.org/
URL:https://www.athlosjp.org/calendar/black-friday-sale-50-off-athlos-store/
LOCATION:Athlos Academy of Jefferson Parish\, 979 Behrman Hwy.\, Terrytown\, LA\, 70056\, United States
CATEGORIES:School Events
ATTACH;FMTTYPE=image/jpeg:https://www.athlosjp.org/wp-content/uploads/2024/10/Black-Friday-Sale_FB.jpg
ORGANIZER;CN="Athlos Academy of Jefferson Parish":MAILTO:info@athlosjp.org
END:VEVENT
END:VCALENDAR