BEGIN:VCALENDAR
VERSION:2.0
PRODID:-//Athlos Academy of Jefferson Parish - ECPv6.15.20//NONSGML v1.0//EN
CALSCALE:GREGORIAN
METHOD:PUBLISH
X-WR-CALNAME:Athlos Academy of Jefferson Parish
X-ORIGINAL-URL:https://www.athlosjp.org
X-WR-CALDESC:Events for Athlos Academy of Jefferson Parish
REFRESH-INTERVAL;VALUE=DURATION:PT1H
X-Robots-Tag:noindex
X-PUBLISHED-TTL:PT1H
BEGIN:VTIMEZONE
TZID:America/Chicago
BEGIN:DAYLIGHT
TZOFFSETFROM:-0600
TZOFFSETTO:-0500
TZNAME:CDT
DTSTART:20240310T080000
END:DAYLIGHT
BEGIN:STANDARD
TZOFFSETFROM:-0500
TZOFFSETTO:-0600
TZNAME:CST
DTSTART:20241103T070000
END:STANDARD
BEGIN:DAYLIGHT
TZOFFSETFROM:-0600
TZOFFSETTO:-0500
TZNAME:CDT
DTSTART:20250309T080000
END:DAYLIGHT
BEGIN:STANDARD
TZOFFSETFROM:-0500
TZOFFSETTO:-0600
TZNAME:CST
DTSTART:20251102T070000
END:STANDARD
BEGIN:DAYLIGHT
TZOFFSETFROM:-0600
TZOFFSETTO:-0500
TZNAME:CDT
DTSTART:20260308T080000
END:DAYLIGHT
BEGIN:STANDARD
TZOFFSETFROM:-0500
TZOFFSETTO:-0600
TZNAME:CST
DTSTART:20261101T070000
END:STANDARD
BEGIN:DAYLIGHT
TZOFFSETFROM:-0600
TZOFFSETTO:-0500
TZNAME:CDT
DTSTART:20270314T080000
END:DAYLIGHT
BEGIN:STANDARD
TZOFFSETFROM:-0500
TZOFFSETTO:-0600
TZNAME:CST
DTSTART:20271107T070000
END:STANDARD
END:VTIMEZONE
BEGIN:VEVENT
DTSTART;TZID=America/Chicago:20250501T153000
DTEND;TZID=America/Chicago:20250501T163000
DTSTAMP:20260421T185322
CREATED:20250327T220251Z
LAST-MODIFIED:20250327T220801Z
UID:10004799-1746113400-1746117000@www.athlosjp.org
SUMMARY:Young Rembrandts - Drawing Classes
DESCRIPTION:Young Rembrandts teaches drawing\, the fundamental skill of all visual arts. Our unique\, proven method and step-by-step curriculum foster a wealth of skills such as fine motor skills\, handwriting readiness\, and attention to detail. Join us as we study color with our Bee Graphic\, have fun discussing movement with our Baby Dragons\, and learn art history from artists like Frida Khalo. Don’t miss out! ENROLL NOW! \n\nGrades: 1st – 7th\nDates: 4/3/2025 – 5/15/2025 (7 weeks)\nDays: Thursdays at 3:30 – 4:30 p.m.\nMinimum: 6 enrollments\nPrice: 2 payments of $49 or pay in full $98\n\nENROLL ONLINE at: www.youngrembrandts.com/selouisiana
URL:https://www.athlosjp.org/calendar/young-rembrandts-drawing-classes-3/2025-05-01/
LOCATION:Athlos Academy of Jefferson Parish\, 979 Behrman Hwy.\, Terrytown\, LA\, 70056\, United States
CATEGORIES:School Events
ATTACH;FMTTYPE=image/png:https://www.athlosjp.org/wp-content/uploads/2025/03/Young-Rembrandts.png
ORGANIZER;CN="Athlos Academy of Jefferson Parish":MAILTO:info@athlosjp.org
END:VEVENT
BEGIN:VEVENT
DTSTART;VALUE=DATE:20250505
DTEND;VALUE=DATE:20250510
DTSTAMP:20260421T185322
CREATED:20250505T190746Z
LAST-MODIFIED:20250505T190746Z
UID:10004858-1746403200-1746835199@www.athlosjp.org
SUMMARY:Educator Appreciation Week
DESCRIPTION:Parents\, guardians\, students and community members are invited to send an e-card to a deserving staff member during May 1-9. \nDuring the week of May 1-9\, you are invited to send notes of appreciation to Athlos educators. This includes teachers\, counselors\, coaches\, support staff and administrators. Every person serves as an educator when working with children and each team member contributes to the success of the school. \nInstructions: \n\nClick on this template\nFill out a short survey with your personal message to an Athlos educator\nClick submit and we will deliver the message to their inbox\n\nChoose an e-card and then personalize it with your name and message. Thank you for helping us celebrate our Athlos staff!
URL:https://www.athlosjp.org/calendar/educator-appreciation-week/
LOCATION:Athlos Academy of Jefferson Parish\, 979 Behrman Hwy.\, Terrytown\, LA\, 70056\, United States
CATEGORIES:School Events
ATTACH;FMTTYPE=image/jpeg:https://www.athlosjp.org/wp-content/uploads/2025/05/Educator-Appreciation-Week_2025_Web-Announcement.jpg
ORGANIZER;CN="Athlos Academy of Jefferson Parish":MAILTO:info@athlosjp.org
END:VEVENT
BEGIN:VEVENT
DTSTART;TZID=America/Chicago:20250508T153000
DTEND;TZID=America/Chicago:20250508T163000
DTSTAMP:20260421T185322
CREATED:20250327T220251Z
LAST-MODIFIED:20250327T220801Z
UID:10004800-1746718200-1746721800@www.athlosjp.org
SUMMARY:Young Rembrandts - Drawing Classes
DESCRIPTION:Young Rembrandts teaches drawing\, the fundamental skill of all visual arts. Our unique\, proven method and step-by-step curriculum foster a wealth of skills such as fine motor skills\, handwriting readiness\, and attention to detail. Join us as we study color with our Bee Graphic\, have fun discussing movement with our Baby Dragons\, and learn art history from artists like Frida Khalo. Don’t miss out! ENROLL NOW! \n\nGrades: 1st – 7th\nDates: 4/3/2025 – 5/15/2025 (7 weeks)\nDays: Thursdays at 3:30 – 4:30 p.m.\nMinimum: 6 enrollments\nPrice: 2 payments of $49 or pay in full $98\n\nENROLL ONLINE at: www.youngrembrandts.com/selouisiana
URL:https://www.athlosjp.org/calendar/young-rembrandts-drawing-classes-3/2025-05-08/
LOCATION:Athlos Academy of Jefferson Parish\, 979 Behrman Hwy.\, Terrytown\, LA\, 70056\, United States
CATEGORIES:School Events
ATTACH;FMTTYPE=image/png:https://www.athlosjp.org/wp-content/uploads/2025/03/Young-Rembrandts.png
ORGANIZER;CN="Athlos Academy of Jefferson Parish":MAILTO:info@athlosjp.org
END:VEVENT
BEGIN:VEVENT
DTSTART;TZID=America/Chicago:20250515T153000
DTEND;TZID=America/Chicago:20250515T163000
DTSTAMP:20260421T185322
CREATED:20250327T220251Z
LAST-MODIFIED:20250327T220801Z
UID:10004801-1747323000-1747326600@www.athlosjp.org
SUMMARY:Young Rembrandts - Drawing Classes
DESCRIPTION:Young Rembrandts teaches drawing\, the fundamental skill of all visual arts. Our unique\, proven method and step-by-step curriculum foster a wealth of skills such as fine motor skills\, handwriting readiness\, and attention to detail. Join us as we study color with our Bee Graphic\, have fun discussing movement with our Baby Dragons\, and learn art history from artists like Frida Khalo. Don’t miss out! ENROLL NOW! \n\nGrades: 1st – 7th\nDates: 4/3/2025 – 5/15/2025 (7 weeks)\nDays: Thursdays at 3:30 – 4:30 p.m.\nMinimum: 6 enrollments\nPrice: 2 payments of $49 or pay in full $98\n\nENROLL ONLINE at: www.youngrembrandts.com/selouisiana
URL:https://www.athlosjp.org/calendar/young-rembrandts-drawing-classes-3/2025-05-15/
LOCATION:Athlos Academy of Jefferson Parish\, 979 Behrman Hwy.\, Terrytown\, LA\, 70056\, United States
CATEGORIES:School Events
ATTACH;FMTTYPE=image/png:https://www.athlosjp.org/wp-content/uploads/2025/03/Young-Rembrandts.png
ORGANIZER;CN="Athlos Academy of Jefferson Parish":MAILTO:info@athlosjp.org
END:VEVENT
BEGIN:VEVENT
DTSTART;VALUE=DATE:20250804
DTEND;VALUE=DATE:20250805
DTSTAMP:20260421T185322
CREATED:20250721T185707Z
LAST-MODIFIED:20250721T185707Z
UID:10004861-1754265600-1754351999@www.athlosjp.org
SUMMARY:First Day of School For Grades 1-8
DESCRIPTION:Monday\, August 4 is the first day of school for students in Grades 1-8! We are so excited to see all of our Tritons – let the school year begin! \nAre you as excited for the new school year as we are? \nShare your student’s first day of school excitement! Just download and print a sign for the appropriate grade\, snap a photo of your student on the first day\, and share on your social media page and on our Facebook page. You can also share on Instagram! \nNew this year! If you attend Student Orientation\, there is no need to print your own sign at home\, you can pick one up at Student Orientation! \nDon’t forget to use the hashtag #AthlosFirstDay so we can see your excited student! Remember\, if you want the photo to be seen\, you must make it a public post (on Facebook) or have your Instagram profile set to public. \n\nKindergarten\n1st Grade\n2nd Grade\n3rd Grade\n4th Grade\n5th Grade\n6th Grade\n7th Grade\n8th Grade
URL:https://www.athlosjp.org/calendar/first-day-of-school-for-grades-1-8/
LOCATION:Athlos Academy of Jefferson Parish\, 979 Behrman Hwy.\, Terrytown\, LA\, 70056\, United States
CATEGORIES:Official School Calendar,School Events
ATTACH;FMTTYPE=image/png:https://www.athlosjp.org/wp-content/uploads/2019/08/Athlos-first-day-of-school-signs_AAJP.png
ORGANIZER;CN="Athlos Academy of Jefferson Parish":MAILTO:info@athlosjp.org
END:VEVENT
BEGIN:VEVENT
DTSTART;VALUE=DATE:20250807
DTEND;VALUE=DATE:20250808
DTSTAMP:20260421T185322
CREATED:20250721T185752Z
LAST-MODIFIED:20250721T185752Z
UID:10004862-1754524800-1754611199@www.athlosjp.org
SUMMARY:First Day of School For Kindergarten!
DESCRIPTION:Thursday\, August 7 is the first day of school for our Kindergarteners! We are so excited to see all of our young Tritons – let the school year begin! \nAre you as excited for the new school year as we are? \nShare your student’s first day of school excitement! Just download and print a sign for the appropriate grade\, snap a photo of your student on the first day\, and share on your social media page and on our Facebook page. You can also share on Instagram! \nNew this year! If you attend Student Orientation\, there is no need to print your own sign at home\, you can pick one up at Student Orientation! \nDon’t forget to use the hashtag #AthlosFirstDay so we can see your excited student! Remember\, if you want the photo to be seen\, you must make it a public post (on Facebook) or have your Instagram profile set to public. \n\nKindergarten\n1st Grade\n2nd Grade\n3rd Grade\n4th Grade\n5th Grade\n6th Grade\n7th Grade\n8th Grade
URL:https://www.athlosjp.org/calendar/first-day-of-school-for-kindergarten-3/
LOCATION:Athlos Academy of Jefferson Parish\, 979 Behrman Hwy.\, Terrytown\, LA\, 70056\, United States
CATEGORIES:Official School Calendar,School Events
ATTACH;FMTTYPE=image/png:https://www.athlosjp.org/wp-content/uploads/2019/08/Athlos-first-day-of-school-signs_AAJP.png
ORGANIZER;CN="Athlos Academy of Jefferson Parish":MAILTO:info@athlosjp.org
END:VEVENT
BEGIN:VEVENT
DTSTART;TZID=America/Chicago:20250924T170000
DTEND;TZID=America/Chicago:20250924T180000
DTSTAMP:20260421T185322
CREATED:20250912T235340Z
LAST-MODIFIED:20250912T235340Z
UID:10004905-1758733200-1758736800@www.athlosjp.org
SUMMARY:Open House - Wednesday\, Sept. 24 @5-6
DESCRIPTION:Dear Athlos Families\, \nDo you know a family who would love Athlos Academy as much as you do? Here’s the perfect chance to introduce them! \nWe’re hosting an Open House on Wednesday\, September 24\, from 5:00–6:00 p.m.\, and we’d love for you to invite friends\, neighbors\, or relatives who might be interested in enrolling their children at Athlos. \nIt’s a great opportunity for prospective families to:\n✅ Meet our Principal✅ Explore our classrooms and programs✅ Learn what makes Athlos unique – from our innovative curriculum to our Performance Character and healthy lifestyle focus✅ Ask questions and feel the welcoming spirit of our school community \nYour recommendation means the world to us\, and there’s no better way to grow our Athlos family than through the support of parents like you. \nWe can’t wait to meet the families you bring!
URL:https://www.athlosjp.org/calendar/open-house-wednesday-sept-24-5-6/
LOCATION:Athlos Academy of Jefferson Parish\, 979 Behrman Hwy.\, Terrytown\, LA\, 70056\, United States
CATEGORIES:Enrollment Events,School Events
ATTACH;FMTTYPE=image/png:https://www.athlosjp.org/wp-content/uploads/2025/09/9.28.25-Graphics_FB.png
ORGANIZER;CN="Athlos Academy of Jefferson Parish":MAILTO:info@athlosjp.org
END:VEVENT
BEGIN:VEVENT
DTSTART;TZID=America/Chicago:20251114T080000
DTEND;TZID=America/Chicago:20251114T133000
DTSTAMP:20260421T185322
CREATED:20250721T203314Z
LAST-MODIFIED:20250721T203605Z
UID:10004879-1763107200-1763127000@www.athlosjp.org
SUMMARY:Early Release - Conferences
DESCRIPTION:Early Release on Friday\, November 14\, for to parent/teacher conferences. \nDismissal is at 1:30 p.m.
URL:https://www.athlosjp.org/calendar/early-release-conferences-5/
LOCATION:Athlos Academy of Jefferson Parish\, 979 Behrman Hwy.\, Terrytown\, LA\, 70056\, United States
CATEGORIES:Official School Calendar,School Events
ATTACH;FMTTYPE=image/png:https://www.athlosjp.org/wp-content/uploads/2019/01/early-dismissal-release-alert-attention-announcement.png
ORGANIZER;CN="Athlos Academy of Jefferson Parish":MAILTO:info@athlosjp.org
END:VEVENT
BEGIN:VEVENT
DTSTART;TZID=America/Chicago:20260124T110000
DTEND;TZID=America/Chicago:20260124T150000
DTSTAMP:20260421T185322
CREATED:20260105T224512Z
LAST-MODIFIED:20260121T175001Z
UID:10004906-1769252400-1769266800@www.athlosjp.org
SUMMARY:Mardi Gras - Community Carnival
DESCRIPTION:WHO: Everyone is Invited!\nWHEN: Saturday\, January 24 from 11 a.m. – 3 p.m.\nWHERE: Parade will begin and end at Athlos Academy of Jefferson Parish (see below for Parade Route) \nGet ready for an incredible day of fun at our FREE community celebration! Everyone is invited to join in the festivities! Experience thrilling games\, captivating live entertainment\, energetic marching bands\, and a delicious variety of food from local vendors. Don’t miss out on this unforgettable event filled with joy and excitement for all ages! Please note that the Parade Route has changed this year. \nParade Route:\n\nStarting Pointe – 979 Behrman Hwy\, Athlos Academy\nRight onto Behrman Hwy\, then right onto Park Place\nLeft onto Carrollwood Village Dr.\nLeft onto Carol Sue Dr.\nLeft onto Behrman Hwy to ending point\, Athlos Academy\n\nClick here to view and/or download the flyer.\nClick here to view and/or download the map of the parade route.
URL:https://www.athlosjp.org/calendar/mardi-gras-community-carnival-2/
LOCATION:Athlos Academy of Jefferson Parish\, 979 Behrman Hwy.\, Terrytown\, LA\, 70056\, United States
CATEGORIES:Community Events,School Events
ATTACH;FMTTYPE=image/jpeg:https://www.athlosjp.org/wp-content/uploads/2023/01/Community-Carnival_FB-Web-Announcement.jpg
ORGANIZER;CN="Athlos Academy of Jefferson Parish":MAILTO:info@athlosjp.org
END:VEVENT
BEGIN:VEVENT
DTSTART;VALUE=DATE:20260212
DTEND;VALUE=DATE:20260213
DTSTAMP:20260421T185322
CREATED:20250721T221735Z
LAST-MODIFIED:20260121T172450Z
UID:10004888-1770854400-1770940799@www.athlosjp.org
SUMMARY:No School - Conferences
DESCRIPTION:No school on Thursday\, February 12\, for to parent/teacher conferences.
URL:https://www.athlosjp.org/calendar/no-school-conferences-6/
LOCATION:Athlos Academy of Jefferson Parish\, 979 Behrman Hwy.\, Terrytown\, LA\, 70056\, United States
CATEGORIES:Official School Calendar,School Events
ATTACH;FMTTYPE=image/png:https://www.athlosjp.org/wp-content/uploads/2018/09/no-school.png
ORGANIZER;CN="Athlos Academy of Jefferson Parish":MAILTO:info@athlosjp.org
END:VEVENT
BEGIN:VEVENT
DTSTART;TZID=America/Chicago:20260327T160000
DTEND;TZID=America/Chicago:20260327T170000
DTSTAMP:20260421T185322
CREATED:20260309T200042Z
LAST-MODIFIED:20260309T200042Z
UID:10004907-1774627200-1774630800@www.athlosjp.org
SUMMARY:Parent Information Meeting (4:00 p.m. @ Athlos Campus)
DESCRIPTION:We are pleased to inform you that the Young Audiences Charter Association has expressed a strong interest in relocating its current K-8 school\, located at the Kate Middleton Campus in Gretna\, to our location on Behrman Hwy. We will be holding a parent information night with Young Audiences on Friday March 27th at 4:00 p.m. at the Athlos campus. Please plan to attend. More details will be sent in the coming weeks.  \nThank you for your patience as we work through this transition. We are working hard to make this final semester the best possible for all families\, students\, and staff.  \nClick to read more information
URL:https://www.athlosjp.org/calendar/parent-information-meeting-400-p-m-athlos-campus/
LOCATION:Athlos Academy of Jefferson Parish\, 979 Behrman Hwy.\, Terrytown\, LA\, 70056\, United States
CATEGORIES:School Events
ATTACH;FMTTYPE=image/png:https://www.athlosjp.org/wp-content/uploads/2026/03/Parent-Information-Meeting-scaled.png
ORGANIZER;CN="Athlos Academy of Jefferson Parish":MAILTO:info@athlosjp.org
END:VEVENT
END:VCALENDAR