BEGIN:VCALENDAR
VERSION:2.0
PRODID:-//Athlos Academy of Jefferson Parish - ECPv6.15.20//NONSGML v1.0//EN
CALSCALE:GREGORIAN
METHOD:PUBLISH
X-WR-CALNAME:Athlos Academy of Jefferson Parish
X-ORIGINAL-URL:https://www.athlosjp.org
X-WR-CALDESC:Events for Athlos Academy of Jefferson Parish
REFRESH-INTERVAL;VALUE=DURATION:PT1H
X-Robots-Tag:noindex
X-PUBLISHED-TTL:PT1H
BEGIN:VTIMEZONE
TZID:America/Chicago
BEGIN:DAYLIGHT
TZOFFSETFROM:-0600
TZOFFSETTO:-0500
TZNAME:CDT
DTSTART:20220313T080000
END:DAYLIGHT
BEGIN:STANDARD
TZOFFSETFROM:-0500
TZOFFSETTO:-0600
TZNAME:CST
DTSTART:20221106T070000
END:STANDARD
BEGIN:DAYLIGHT
TZOFFSETFROM:-0600
TZOFFSETTO:-0500
TZNAME:CDT
DTSTART:20230312T080000
END:DAYLIGHT
BEGIN:STANDARD
TZOFFSETFROM:-0500
TZOFFSETTO:-0600
TZNAME:CST
DTSTART:20231105T070000
END:STANDARD
BEGIN:DAYLIGHT
TZOFFSETFROM:-0600
TZOFFSETTO:-0500
TZNAME:CDT
DTSTART:20240310T080000
END:DAYLIGHT
BEGIN:STANDARD
TZOFFSETFROM:-0500
TZOFFSETTO:-0600
TZNAME:CST
DTSTART:20241103T070000
END:STANDARD
END:VTIMEZONE
BEGIN:VEVENT
DTSTART;TZID=America/Chicago:20231014T090000
DTEND;TZID=America/Chicago:20231014T090000
DTSTAMP:20260420T071108
CREATED:20230928T205525Z
LAST-MODIFIED:20230928T205525Z
UID:10004233-1697274000-1697274000@www.athlosjp.org
SUMMARY:Athlos vs. Height Park Varsity (Flag Football/Volleyball)
DESCRIPTION:Athlos Varsity Flag Football/Volleyball game is on October 14\, 2023 at 9:00 a.m. against Height Park at Tubman Montessori.
URL:https://www.athlosjp.org/calendar/athlos-vs-height-park-varsity-flag-football-volleyball/
LOCATION:Tubman Montessori
CATEGORIES:Sports Calendar,Varsity Flag Football/Volleyball
ATTACH;FMTTYPE=image/png:https://www.athlosjp.org/wp-content/uploads/2021/03/athlos-academy-jp-mascot-logo_secondary-2_rgb.png
END:VEVENT
BEGIN:VEVENT
DTSTART;TZID=America/Chicago:20231007T090000
DTEND;TZID=America/Chicago:20231007T090000
DTSTAMP:20260420T071108
CREATED:20230928T205327Z
LAST-MODIFIED:20230928T210239Z
UID:10004232-1696669200-1696669200@www.athlosjp.org
SUMMARY:Athlos vs. Success Varsity (Flag Football/Volleyball)
DESCRIPTION:Athlos Varsity Flag Football/Volleyball game is on October 7\, 2023 at 9:00 a.m. against Success
URL:https://www.athlosjp.org/calendar/athlos-vs-success-varsity-flag-football-volleyball/
CATEGORIES:Sports Calendar,Varsity Flag Football/Volleyball
ATTACH;FMTTYPE=image/png:https://www.athlosjp.org/wp-content/uploads/2021/03/athlos-academy-jp-mascot-logo_secondary-2_rgb.png
END:VEVENT
BEGIN:VEVENT
DTSTART;TZID=America/Chicago:20230930T090000
DTEND;TZID=America/Chicago:20230930T090000
DTSTAMP:20260420T071108
CREATED:20230928T204841Z
LAST-MODIFIED:20230928T210015Z
UID:10004231-1696064400-1696064400@www.athlosjp.org
SUMMARY:Audubon Gentilly vs. Athlos Varsity (Flag Football/Volleyball)
DESCRIPTION:Athlos Varsity Flag Football/Volleyball game is on September 30\, 2023 at 9:00 a.m. against Audubon Gentilly at Esperanza/Conrad Park.
URL:https://www.athlosjp.org/calendar/audubon-gentilly-vs-athlos-varsity-flag-football-volleyball/
LOCATION:Esperanza/Conrad Park
CATEGORIES:Sports Calendar,Varsity Flag Football/Volleyball
ATTACH;FMTTYPE=image/png:https://www.athlosjp.org/wp-content/uploads/2021/03/athlos-academy-jp-mascot-logo_secondary-2_rgb.png
END:VEVENT
BEGIN:VEVENT
DTSTART;TZID=America/Chicago:20230923T110000
DTEND;TZID=America/Chicago:20230923T110000
DTSTAMP:20260420T071108
CREATED:20230928T204002Z
LAST-MODIFIED:20230928T205816Z
UID:10004229-1695466800-1695466800@www.athlosjp.org
SUMMARY:Athlos vs. LFNO Varsity (Flag Football/Volleyball)
DESCRIPTION:Athlos Varsity Flag Football/Volleyball game is on September 23\, 2023 at 11:00 a.m. against LFN at Tubman Montessori.
URL:https://www.athlosjp.org/calendar/athlos-vs-lfno-varsity-flag-football-volleyball/
LOCATION:Tubman Montessori
CATEGORIES:Sports Calendar,Varsity Flag Football/Volleyball
ATTACH;FMTTYPE=image/png:https://www.athlosjp.org/wp-content/uploads/2021/03/athlos-academy-jp-mascot-logo_secondary-2_rgb.png
END:VEVENT
BEGIN:VEVENT
DTSTART;TZID=America/Chicago:20230916T120000
DTEND;TZID=America/Chicago:20230916T120000
DTSTAMP:20260420T071108
CREATED:20230928T203527Z
LAST-MODIFIED:20230928T205652Z
UID:10004228-1694865600-1694865600@www.athlosjp.org
SUMMARY:Plessy vs. Athlos Varsity (Flag Football/Volleyball)
DESCRIPTION:Athlos Varsity Flag Football/Volleyball game is on September 16\, 2023 at 12:00 p.m. against Plessy. The game will be at Tubman Montessori.
URL:https://www.athlosjp.org/calendar/plessy-vs-athlos-varsity-flag-football-volleyball/
LOCATION:Tubman Montessori
CATEGORIES:Sports Calendar,Varsity Flag Football/Volleyball
ATTACH;FMTTYPE=image/png:https://www.athlosjp.org/wp-content/uploads/2021/03/athlos-academy-jp-mascot-logo_secondary-2_rgb.png
END:VEVENT
END:VCALENDAR